BEGIN:VCALENDAR
VERSION:2.0
PRODID:-//National University of Natural Medicine - NUNM - ECPv5.0.2.1//NONSGML v1.0//EN
CALSCALE:GREGORIAN
METHOD:PUBLISH
X-WR-CALNAME:National University of Natural Medicine - NUNM
X-ORIGINAL-URL:https://nunm.edu
X-WR-CALDESC:Events for National University of Natural Medicine - NUNM
BEGIN:VTIMEZONE
TZID:America/Los_Angeles
BEGIN:DAYLIGHT
TZOFFSETFROM:-0800
TZOFFSETTO:-0700
TZNAME:PDT
DTSTART:20220313T100000
END:DAYLIGHT
BEGIN:STANDARD
TZOFFSETFROM:-0700
TZOFFSETTO:-0800
TZNAME:PST
DTSTART:20221106T090000
END:STANDARD
END:VTIMEZONE
BEGIN:VEVENT
DTSTART;TZID=America/Los_Angeles:20221107T130000
DTEND;TZID=America/Los_Angeles:20221107T140000
DTSTAMP:20260419T174954
CREATED:20221003T233746Z
LAST-MODIFIED:20221003T233746Z
UID:40023-1667826000-1667829600@nunm.edu
SUMMARY:Dr. Mather Open Lab Mondays
DESCRIPTION:Dr. Gaia J. Mather is hosting Open Labs on Mondays during the Fall ’22 term from 1-2 pm. Contact Dr. Mather directly (gmather@nunm.edu) for more information. \n
URL:https://nunm.edu/event/dr-mather-open-lab-mondays-nov7-22/
LOCATION:Adademic Building\, Room 220
CATEGORIES:Academics
END:VEVENT
END:VCALENDAR