BEGIN:VCALENDAR
VERSION:2.0
PRODID:-//National University of Natural Medicine - NUNM - ECPv5.0.2.1//NONSGML v1.0//EN
CALSCALE:GREGORIAN
METHOD:PUBLISH
X-WR-CALNAME:National University of Natural Medicine - NUNM
X-ORIGINAL-URL:https://nunm.edu
X-WR-CALDESC:Events for National University of Natural Medicine - NUNM
BEGIN:VTIMEZONE
TZID:America/Los_Angeles
BEGIN:DAYLIGHT
TZOFFSETFROM:-0800
TZOFFSETTO:-0700
TZNAME:PDT
DTSTART:20220313T100000
END:DAYLIGHT
BEGIN:STANDARD
TZOFFSETFROM:-0700
TZOFFSETTO:-0800
TZNAME:PST
DTSTART:20221106T090000
END:STANDARD
END:VTIMEZONE
BEGIN:VEVENT
DTSTART;TZID=America/Los_Angeles:20221117T150000
DTEND;TZID=America/Los_Angeles:20221117T160000
DTSTAMP:20260421T173351
CREATED:20221027T003142Z
LAST-MODIFIED:20221027T170807Z
UID:40570-1668697200-1668700800@nunm.edu
SUMMARY:MScN Alumni Clinical Nutrition Careers Q&A Panel
DESCRIPTION:Join Master of Science in Nutrition alumni on Thursday\, Nov. 17 at 3 p.m. PDT for a virtual Q&A panel to learn more about their experiences pursuing careers in clinical nutrition. \nAlumni panelists are Emilie Davis\, MScN\, Holistic Nutritionist & Owner of Whole Essentials Nutrition; Jess Zadra\, MS\, CNS\, Functional Medicine Nutritionist & Integrative Health Coach at Central Coast Center for Integrative Health; and Stephanie Harrington\, MScN\, Nutrition Counselor at Nutritional Love\, LLC. \nThe panel will be facilitated by Kira Freed\, Nutrition Department Coordinator\, and Emma Britton\, Director of Career Services. \nSign up to attend at: https://forms.office.com/r/nwsdZTPqFE \n
URL:https://nunm.edu/event/mscn-alumni-clinical-nutrition-careers-qa-panel/
CATEGORIES:Events
END:VEVENT
END:VCALENDAR