BEGIN:VCALENDAR
VERSION:2.0
PRODID:-//National University of Natural Medicine - NUNM - ECPv5.0.2.1//NONSGML v1.0//EN
CALSCALE:GREGORIAN
METHOD:PUBLISH
X-WR-CALNAME:National University of Natural Medicine - NUNM
X-ORIGINAL-URL:https://nunm.edu
X-WR-CALDESC:Events for National University of Natural Medicine - NUNM
BEGIN:VTIMEZONE
TZID:America/Los_Angeles
BEGIN:DAYLIGHT
TZOFFSETFROM:-0800
TZOFFSETTO:-0700
TZNAME:PDT
DTSTART:20240310T100000
END:DAYLIGHT
BEGIN:STANDARD
TZOFFSETFROM:-0700
TZOFFSETTO:-0800
TZNAME:PST
DTSTART:20241103T090000
END:STANDARD
END:VTIMEZONE
BEGIN:VEVENT
DTSTART;TZID=America/Los_Angeles:20240501T120000
DTEND;TZID=America/Los_Angeles:20240501T130000
DTSTAMP:20260424T193643
CREATED:20240320T161855Z
LAST-MODIFIED:20240422T212317Z
UID:48624-1714564800-1714568400@nunm.edu
SUMMARY:Research Week: Lunch & Learn Presentations - Shirin Pourafshar
DESCRIPTION:All NUNM community members are invited to attend Lunch and Learn presentations from research professionals\, highlighting their current work and career path. These 30-minute presentations will be followed by 15-minute Q&A with the speaker. \nWednesday\, May 1\nNoon – 1 PM\nMain Academic Building\, Room 107\nOpen to all NUNM community\, research students\, and faculty \nPublic livestream: https://us06web.zoom.us/j/83625780018\n \nAbout the Speaker\n  \nShirin Pourafshar\, PhD\, MSCR\, RDN\nClinical Research Manager\, Standard Process\n“Nutrition and food science research as a part of supplement development with Standard Process” \nDr. Shirin Pourafshar is currently serving as the Manager of Clinical Research at Standard Process Inc. Her academic journey began at Shiraz University in Iran\, where she earned a Bachelor’s degree in Food Science and Technology. Seeking to deepen her expertise\, she relocated to the United States and pursued a Master’s degree in Food Science from South Dakota State University. Dr. Pourafshar further expanded her qualifications by obtaining a Doctoral degree in Nutrition Science from Florida State University\, where she also received her Registered Dietitian certification. \nFollowing her PhD\, she joined the University of Virginia as an NIH T32 Postdoctoral Fellow. During her postdoctoral training\, she simultaneously earned a second Master’s degree in Clinical Research. Her research experience in clinical research led her to start a career path in industry as a Global Clinical Research Lead and then the Clinical Research Manager. Dr. Pourafshar’s research primarily focuses on the role of bioactive compounds and micronutrients in the prevention of chronic diseases and their broader impact on health. Her work continues to contribute valuable insights into nutritional strategies that enhance overall well-being. \n  \n
URL:https://nunm.edu/event/research-week-lunch-learn-presentations-2/
CATEGORIES:Events,Research,Student Life
END:VEVENT
END:VCALENDAR