BEGIN:VCALENDAR
VERSION:2.0
PRODID:-//National University of Natural Medicine - NUNM - ECPv5.0.2.1//NONSGML v1.0//EN
CALSCALE:GREGORIAN
METHOD:PUBLISH
X-WR-CALNAME:National University of Natural Medicine - NUNM
X-ORIGINAL-URL:https://nunm.edu
X-WR-CALDESC:Events for National University of Natural Medicine - NUNM
BEGIN:VTIMEZONE
TZID:America/Los_Angeles
BEGIN:DAYLIGHT
TZOFFSETFROM:-0800
TZOFFSETTO:-0700
TZNAME:PDT
DTSTART:20230312T100000
END:DAYLIGHT
BEGIN:STANDARD
TZOFFSETFROM:-0700
TZOFFSETTO:-0800
TZNAME:PST
DTSTART:20231105T090000
END:STANDARD
END:VTIMEZONE
BEGIN:VEVENT
DTSTART;TZID=America/Los_Angeles:20230119T110000
DTEND;TZID=America/Los_Angeles:20230119T110000
DTSTAMP:20260422T154259
CREATED:20230104T232746Z
LAST-MODIFIED:20230104T232746Z
UID:41531-1674126000-1674126000@nunm.edu
SUMMARY:Virtual Program Q&A - Naturopathic Medicine (ND)
DESCRIPTION:Find out what sets NUNM’s curriculum apart at a live\, virtual Q&A with our admissions team. Each session lasts about an hour\, and is free to attend. Registration ends one hour before the session begins. \n
URL:https://nunm.edu/event/virtual-program-qa-naturopathic-medicine-nd/
END:VEVENT
BEGIN:VEVENT
DTSTART;TZID=America/Los_Angeles:20230119T140000
DTEND;TZID=America/Los_Angeles:20230119T150000
DTSTAMP:20260422T154259
CREATED:20230113T172429Z
LAST-MODIFIED:20230113T172429Z
UID:41772-1674136800-1674140400@nunm.edu
SUMMARY:Business-Lifestyle Design with Bill Hershey
DESCRIPTION:\n\n\nCome join NUNM Career Services for an fantastic virtual conversation with Bill Hershey on Business-Lifestyle Design! \nBusiness-Lifestyle Design is about making a great living doing what you love most. This masterclass will offer creative mindset strategies along with practical tools to help you holistically design your integrative health business. Creating your ideal practice can be just as enjoyable as growing and cultivating a garden or crafting a work of art. Learn how! \nBill Hershey is a Cash Flow Coach who helps integrative health and wellness practitioners develop profitable clinic businesses to make a great living doing what they love. \nAs a LivePlan Certified Strategic Advisor\, Bill teaches marketing and finance fundamentals nationally and internationally through professional healthcare organizations\, training institutions\, and CE course platforms. \nLearn more about Bill and his work at his website: https://www.lifestream-bewell.com/about-me\n\n\n\n
URL:https://nunm.edu/event/business-lifestyle-design-with-bill-hershey/
END:VEVENT
END:VCALENDAR