BEGIN:VCALENDAR
VERSION:2.0
PRODID:-//National University of Natural Medicine - NUNM - ECPv5.0.2.1//NONSGML v1.0//EN
CALSCALE:GREGORIAN
METHOD:PUBLISH
X-WR-CALNAME:National University of Natural Medicine - NUNM
X-ORIGINAL-URL:https://nunm.edu
X-WR-CALDESC:Events for National University of Natural Medicine - NUNM
BEGIN:VTIMEZONE
TZID:America/Los_Angeles
BEGIN:DAYLIGHT
TZOFFSETFROM:-0800
TZOFFSETTO:-0700
TZNAME:PDT
DTSTART:20230312T100000
END:DAYLIGHT
BEGIN:STANDARD
TZOFFSETFROM:-0700
TZOFFSETTO:-0800
TZNAME:PST
DTSTART:20231105T090000
END:STANDARD
END:VTIMEZONE
BEGIN:VEVENT
DTSTART;TZID=America/Los_Angeles:20230123T160000
DTEND;TZID=America/Los_Angeles:20230123T170000
DTSTAMP:20260422T221053
CREATED:20230104T232924Z
LAST-MODIFIED:20230104T232924Z
UID:41533-1674489600-1674493200@nunm.edu
SUMMARY:Classical Chinese Medicine (CCM) Q&A
DESCRIPTION:Find out what sets NUNM’s curriculum apart at a live\, virtual Q&A with our admissions team. Each session lasts about an hour\, and is free to attend. Registration ends one hour before the session begins. \n
URL:https://nunm.edu/event/classical-chinese-medicine-ccm-qa/
END:VEVENT
END:VCALENDAR