BEGIN:VCALENDAR
VERSION:2.0
PRODID:-//National University of Natural Medicine - NUNM - ECPv5.0.2.1//NONSGML v1.0//EN
CALSCALE:GREGORIAN
METHOD:PUBLISH
X-WR-CALNAME:National University of Natural Medicine - NUNM
X-ORIGINAL-URL:https://nunm.edu
X-WR-CALDESC:Events for National University of Natural Medicine - NUNM
BEGIN:VTIMEZONE
TZID:America/Los_Angeles
BEGIN:DAYLIGHT
TZOFFSETFROM:-0800
TZOFFSETTO:-0700
TZNAME:PDT
DTSTART:20230312T100000
END:DAYLIGHT
BEGIN:STANDARD
TZOFFSETFROM:-0700
TZOFFSETTO:-0800
TZNAME:PST
DTSTART:20231105T090000
END:STANDARD
END:VTIMEZONE
BEGIN:VEVENT
DTSTART;TZID=America/Los_Angeles:20230520T090000
DTEND;TZID=America/Los_Angeles:20230521T170000
DTSTAMP:20260419T133911
CREATED:20230105T185623Z
LAST-MODIFIED:20230224T183248Z
UID:41573-1684573200-1684688400@nunm.edu
SUMMARY:Classical Chinese Medicine Symposium
DESCRIPTION:The symposium’s international line up will feature women who are making amazing contributions to Classical Chinese Medicine\, helping us use these ancient resources for current challenges. We will also feature exciting organizations using ancient roots to activate change in our modern world. This is a virtual global event. \nLearn more | Register \n
URL:https://nunm.edu/event/classical-chinese-medicine-symposium/
CATEGORIES:Contiuing Education
END:VEVENT
END:VCALENDAR