BEGIN:VCALENDAR
VERSION:2.0
PRODID:-//National University of Natural Medicine - NUNM - ECPv5.0.2.1//NONSGML v1.0//EN
CALSCALE:GREGORIAN
METHOD:PUBLISH
X-WR-CALNAME:National University of Natural Medicine - NUNM
X-ORIGINAL-URL:https://nunm.edu
X-WR-CALDESC:Events for National University of Natural Medicine - NUNM
BEGIN:VTIMEZONE
TZID:America/Los_Angeles
BEGIN:DAYLIGHT
TZOFFSETFROM:-0800
TZOFFSETTO:-0700
TZNAME:PDT
DTSTART:20240310T100000
END:DAYLIGHT
BEGIN:STANDARD
TZOFFSETFROM:-0700
TZOFFSETTO:-0800
TZNAME:PST
DTSTART:20241103T090000
END:STANDARD
END:VTIMEZONE
BEGIN:VEVENT
DTSTART;TZID=America/Los_Angeles:20240315T080000
DTEND;TZID=America/Los_Angeles:20240315T170000
DTSTAMP:20260424T220940
CREATED:20231215T162704Z
LAST-MODIFIED:20231215T172225Z
UID:46676-1710489600-1710522000@nunm.edu
SUMMARY:OSCE II
DESCRIPTION:Information about this event will be presented on the Moodle page for those enrolled in the course one month before the event. Individual time slots will be listed on that Moodle page approximately 2 weeks before the event. \n
URL:https://nunm.edu/event/osce-ii/
LOCATION:Academic Building
CATEGORIES:Events
END:VEVENT
BEGIN:VEVENT
DTSTART;TZID=America/Los_Angeles:20240315T180000
DTEND;TZID=America/Los_Angeles:20240315T220000
DTSTAMP:20260424T220940
CREATED:20240229T154547Z
LAST-MODIFIED:20240229T182530Z
UID:48011-1710525600-1710540000@nunm.edu
SUMMARY:Make a Difference Masquerade Ball
DESCRIPTION:The Make a Difference Masquerade Ball is a celebration of the remarkable individuals who have significantly contributed to our university and community. This event is a unique opportunity to honor the dedication and achievements of our faculty\, staff\, and students who go above and beyond\, making NUNM a beacon of excellence and community engagement. \nFriday\, March 15\n6 – 10 PM \n
URL:https://nunm.edu/event/make-a-difference-masquerade-ball/
LOCATION:Off-Campus\, Union Pine\, 525 SE Pine St\, Portland\, OR\, United States
CATEGORIES:Events,Student Life
END:VEVENT
END:VCALENDAR