BEGIN:VCALENDAR
VERSION:2.0
PRODID:-//National University of Natural Medicine - NUNM - ECPv5.0.2.1//NONSGML v1.0//EN
CALSCALE:GREGORIAN
METHOD:PUBLISH
X-WR-CALNAME:National University of Natural Medicine - NUNM
X-ORIGINAL-URL:https://nunm.edu
X-WR-CALDESC:Events for National University of Natural Medicine - NUNM
BEGIN:VTIMEZONE
TZID:America/Los_Angeles
BEGIN:DAYLIGHT
TZOFFSETFROM:-0800
TZOFFSETTO:-0700
TZNAME:PDT
DTSTART:20240310T100000
END:DAYLIGHT
BEGIN:STANDARD
TZOFFSETFROM:-0700
TZOFFSETTO:-0800
TZNAME:PST
DTSTART:20241103T090000
END:STANDARD
END:VTIMEZONE
BEGIN:VEVENT
DTSTART;TZID=America/Los_Angeles:20240911T093000
DTEND;TZID=America/Los_Angeles:20240911T123000
DTSTAMP:20260424T160528
CREATED:20240718T214407Z
LAST-MODIFIED:20240718T214407Z
UID:68733-1726047000-1726057800@nunm.edu
SUMMARY:Institutional Orientation for all online programs (and those who missed Tuesday)
DESCRIPTION:Institutional Orientation for all online programs (and those who missed Tuesday) \nWednesday\, September 11th 2024\n9:30 AM – 12:30 PM\nNUNM Academic Building\, 49 S Portland\, OR 97201 \nVirtual via Teams – link will be sent out \n
URL:https://nunm.edu/event/institutional-orientation-for-all-online-programs-and-those-who-missed-tuesday/
END:VEVENT
END:VCALENDAR