BEGIN:VCALENDAR
VERSION:2.0
PRODID:-//National University of Natural Medicine - NUNM - ECPv5.0.2.1//NONSGML v1.0//EN
CALSCALE:GREGORIAN
METHOD:PUBLISH
X-WR-CALNAME:National University of Natural Medicine - NUNM
X-ORIGINAL-URL:https://nunm.edu
X-WR-CALDESC:Events for National University of Natural Medicine - NUNM
BEGIN:VTIMEZONE
TZID:America/Los_Angeles
BEGIN:DAYLIGHT
TZOFFSETFROM:-0800
TZOFFSETTO:-0700
TZNAME:PDT
DTSTART:20230312T100000
END:DAYLIGHT
BEGIN:STANDARD
TZOFFSETFROM:-0700
TZOFFSETTO:-0800
TZNAME:PST
DTSTART:20231105T090000
END:STANDARD
END:VTIMEZONE
BEGIN:VEVENT
DTSTART;TZID=America/Los_Angeles:20230610T090000
DTEND;TZID=America/Los_Angeles:20230611T170000
DTSTAMP:20260423T121359
CREATED:20230105T185847Z
LAST-MODIFIED:20230224T183231Z
UID:41576-1686387600-1686502800@nunm.edu
SUMMARY:Autoimmune Disorders Conference
DESCRIPTION:Leading experts will present on methods for the diagnosis\, analysis and treatment of autoimmune conditions. Current research and integrative strategies for managing these will be highlighted through patient case studies\, clinical pearls and detailed naturopathic treatment protocols. \nLearn more | Register \n
URL:https://nunm.edu/event/autoimmune-disorders-conference/
CATEGORIES:Contiuing Education
END:VEVENT
END:VCALENDAR