BEGIN:VCALENDAR
VERSION:2.0
PRODID:-//National University of Natural Medicine - NUNM - ECPv5.0.2.1//NONSGML v1.0//EN
CALSCALE:GREGORIAN
METHOD:PUBLISH
X-WR-CALNAME:National University of Natural Medicine - NUNM
X-ORIGINAL-URL:https://nunm.edu
X-WR-CALDESC:Events for National University of Natural Medicine - NUNM
BEGIN:VTIMEZONE
TZID:America/Los_Angeles
BEGIN:DAYLIGHT
TZOFFSETFROM:-0800
TZOFFSETTO:-0700
TZNAME:PDT
DTSTART:20230312T100000
END:DAYLIGHT
BEGIN:STANDARD
TZOFFSETFROM:-0700
TZOFFSETTO:-0800
TZNAME:PST
DTSTART:20231105T090000
END:STANDARD
END:VTIMEZONE
BEGIN:VEVENT
DTSTART;TZID=America/Los_Angeles:20230805T090000
DTEND;TZID=America/Los_Angeles:20230806T170000
DTSTAMP:20260423T085453
CREATED:20230105T185951Z
LAST-MODIFIED:20230224T183215Z
UID:41578-1691226000-1691341200@nunm.edu
SUMMARY:Naturopathic Women’s Health Conference
DESCRIPTION:Leading practitioners will update us on research relevant to supporting women’s health. Naturopathic and integrative strategies for managing women’s health will be highlighted through patient case studies\, clinical pearls and detailed naturopathic treatment protocols. \nLearn more | Register \n
URL:https://nunm.edu/event/naturopathic-womens-health-conference/
CATEGORIES:Contiuing Education
END:VEVENT
END:VCALENDAR